BEGIN:VCALENDAR
VERSION:2.0
PRODID:-//sspeterandpaul.net//eCatholic//EN
X-WR-TIMEZONE:LocalTZ
BEGIN:VTIMEZONE
TZID:LocalTZ
X-LIC-LOCATION:LocalTZ
BEGIN:DAYLIGHT
TZOFFSETFROM:-0600
TZOFFSETTO:-0500
TZNAME:LocalTZ
DTSTART:19700308T020000
RRULE:FREQ=YEARLY;BYMONTH=3;BYDAY=2SU
END:DAYLIGHT
BEGIN:STANDARD
TZOFFSETFROM:-0500
TZOFFSETTO:-0600
TZNAME:LocalTZ
DTSTART:19701101T020000
RRULE:FREQ=YEARLY;BYMONTH=11;BYDAY=1SU
END:STANDARD
END:VTIMEZONE
BEGIN:VEVENT
UID:2997857@sspeterandpaul.net
DTSTAMP:20260421T182057Z
DTSTART:20260427T173000
DTEND:20260427T190000
RRULE:FREQ=WEEKLY;UNTIL=20260609;BYDAY=MO
EXDATE:20260202T173000,20260216T173000,20260302T173000,20260316T173000,202
 60330T173000,20260406T173000,20260420T173000,20260504T173000,20260518T1730
 00,20260525T173000,20260601T173000,20260608T173000
SUMMARY:Women's Group
DESCRIPTION:Group for Women ages 18-25. This is a space for formation\, fr
 iendship\, and prayer! Join us the second and fourth Monday of every month
  as we tackle relatable topics and grow in our faith. We will meet downsta
 irs in the Saint Paul Center. \n\nTo be a member please fill out the form 
 below so you can join the group chat!!
END:VEVENT
BEGIN:VEVENT
UID:2997860@sspeterandpaul.net
DTSTAMP:20260421T182057Z
DTSTART:20260525T173000
DTEND:20260525T190000
SUMMARY:NO Women's Group CANCELLED (Memorial Day!)
DESCRIPTION:No meeting! Memorial Day
END:VEVENT
BEGIN:VEVENT
UID:3000062@sspeterandpaul.net
DTSTAMP:20260421T182057Z
DTSTART:20260615T173000
DTEND:20260615T190000
SUMMARY:Women's Group
DESCRIPTION:Group for Women ages 18-25. This is a space for formation\, fr
 iendship\, and prayer! Join us the second and fourth Monday of every month
  as we tackle relatable topics and grow in our faith. We will meet downsta
 irs in the Saint Paul Center. \n\nTo be a member please fill out the form 
 below so you can join the group chat!!
END:VEVENT
END:VCALENDAR
